BEGIN:VCALENDAR
VERSION:2.0
PRODID:-//AACCWP - ECPv6.15.17.1//NONSGML v1.0//EN
CALSCALE:GREGORIAN
METHOD:PUBLISH
X-ORIGINAL-URL:https://aaccwp.com
X-WR-CALDESC:Events for AACCWP
REFRESH-INTERVAL;VALUE=DURATION:PT1H
X-Robots-Tag:noindex
X-PUBLISHED-TTL:PT1H
BEGIN:VTIMEZONE
TZID:America/New_York
BEGIN:DAYLIGHT
TZOFFSETFROM:-0500
TZOFFSETTO:-0400
TZNAME:EDT
DTSTART:20200308T070000
END:DAYLIGHT
BEGIN:STANDARD
TZOFFSETFROM:-0400
TZOFFSETTO:-0500
TZNAME:EST
DTSTART:20201101T060000
END:STANDARD
BEGIN:DAYLIGHT
TZOFFSETFROM:-0500
TZOFFSETTO:-0400
TZNAME:EDT
DTSTART:20210314T070000
END:DAYLIGHT
BEGIN:STANDARD
TZOFFSETFROM:-0400
TZOFFSETTO:-0500
TZNAME:EST
DTSTART:20211107T060000
END:STANDARD
BEGIN:DAYLIGHT
TZOFFSETFROM:-0500
TZOFFSETTO:-0400
TZNAME:EDT
DTSTART:20220313T070000
END:DAYLIGHT
BEGIN:STANDARD
TZOFFSETFROM:-0400
TZOFFSETTO:-0500
TZNAME:EST
DTSTART:20221106T060000
END:STANDARD
END:VTIMEZONE
BEGIN:VEVENT
DTSTART;TZID=America/New_York:20210514T120000
DTEND;TZID=America/New_York:20210514T130000
DTSTAMP:20260421T010015
CREATED:20210426T170917Z
LAST-MODIFIED:20210426T170917Z
UID:10000171-1620993600-1620997200@aaccwp.com
SUMMARY:Annual Members' Meeting
DESCRIPTION:The Board of Directors cordially invites you to attend the virtual Annual Members’ Meeting  \n  \nSpeaker: \nDavid Burritt\, President and CEO \nUnited States Steel Corporation \n  \nR.S.V.P. By Wednesday\, May 12\, 2021 to:  412-392-0610 or information@aaccwp.com  \n  \nSponsored by: Commonwealth Charter Academy \nP.J. Dick\, Trumbull Corporation\, Lindy Paving \nPort Authority of Allegheny County \nUniversity of Pittsburgh
URL:https://aaccwp.com/event/annual-members-meeting/
CATEGORIES:Business Luncheon
END:VEVENT
END:VCALENDAR