BEGIN:VCALENDAR
VERSION:2.0
PRODID:-//AACCWP - ECPv6.15.17.1//NONSGML v1.0//EN
CALSCALE:GREGORIAN
METHOD:PUBLISH
X-WR-CALNAME:AACCWP
X-ORIGINAL-URL:https://aaccwp.com
X-WR-CALDESC:Events for AACCWP
REFRESH-INTERVAL;VALUE=DURATION:PT1H
X-Robots-Tag:noindex
X-PUBLISHED-TTL:PT1H
BEGIN:VTIMEZONE
TZID:America/New_York
BEGIN:DAYLIGHT
TZOFFSETFROM:-0500
TZOFFSETTO:-0400
TZNAME:EDT
DTSTART:20200308T070000
END:DAYLIGHT
BEGIN:STANDARD
TZOFFSETFROM:-0400
TZOFFSETTO:-0500
TZNAME:EST
DTSTART:20201101T060000
END:STANDARD
BEGIN:DAYLIGHT
TZOFFSETFROM:-0500
TZOFFSETTO:-0400
TZNAME:EDT
DTSTART:20210314T070000
END:DAYLIGHT
BEGIN:STANDARD
TZOFFSETFROM:-0400
TZOFFSETTO:-0500
TZNAME:EST
DTSTART:20211107T060000
END:STANDARD
BEGIN:DAYLIGHT
TZOFFSETFROM:-0500
TZOFFSETTO:-0400
TZNAME:EDT
DTSTART:20220313T070000
END:DAYLIGHT
BEGIN:STANDARD
TZOFFSETFROM:-0400
TZOFFSETTO:-0500
TZNAME:EST
DTSTART:20221106T060000
END:STANDARD
END:VTIMEZONE
BEGIN:VEVENT
DTSTART;TZID=America/New_York:20211201T120000
DTEND;TZID=America/New_York:20211201T133000
DTSTAMP:20260420T144033
CREATED:20211025T154820Z
LAST-MODIFIED:20211025T155147Z
UID:10000183-1638360000-1638365400@aaccwp.com
SUMMARY:Annual Business Luncheon
DESCRIPTION:The Board of Directors of the African American Chamber of Commerce of Western Pennsylvania invites you to attend \n~ \nAnnual Business Luncheon \nWednesday\, December 1\, 2021 \nOmni William Penn Hotel Ballroom 17th Floor \n530 William Penn Place \n12:00 Noon \n  \n~ \n  \nKeynote Speaker \nLeslie Davis\, President and Chief Executive Officer \nUPMC \n  \nSponsored by: JP Morgan Chase & Co.  \n                          Turner Construction Company
URL:https://aaccwp.com/event/annual-business-luncheon-5/
LOCATION:Omni William Penn Hotel\, 530 William Penn Pl.\, Pittsburgh\, PA\, 15219\, United States
CATEGORIES:Business Luncheon
GEO:40.4405948;-79.9965989
X-APPLE-STRUCTURED-LOCATION;VALUE=URI;X-ADDRESS=Omni William Penn Hotel 530 William Penn Pl. Pittsburgh PA 15219 United States;X-APPLE-RADIUS=500;X-TITLE=530 William Penn Pl.:geo:-79.9965989,40.4405948
END:VEVENT
END:VCALENDAR