BEGIN:VCALENDAR
VERSION:2.0
PRODID:-//AACCWP - ECPv6.15.17.1//NONSGML v1.0//EN
CALSCALE:GREGORIAN
METHOD:PUBLISH
X-WR-CALNAME:AACCWP
X-ORIGINAL-URL:https://aaccwp.com
X-WR-CALDESC:Events for AACCWP
REFRESH-INTERVAL;VALUE=DURATION:PT1H
X-Robots-Tag:noindex
X-PUBLISHED-TTL:PT1H
BEGIN:VTIMEZONE
TZID:America/New_York
BEGIN:DAYLIGHT
TZOFFSETFROM:-0500
TZOFFSETTO:-0400
TZNAME:EDT
DTSTART:20210314T070000
END:DAYLIGHT
BEGIN:STANDARD
TZOFFSETFROM:-0400
TZOFFSETTO:-0500
TZNAME:EST
DTSTART:20211107T060000
END:STANDARD
BEGIN:DAYLIGHT
TZOFFSETFROM:-0500
TZOFFSETTO:-0400
TZNAME:EDT
DTSTART:20220313T070000
END:DAYLIGHT
BEGIN:STANDARD
TZOFFSETFROM:-0400
TZOFFSETTO:-0500
TZNAME:EST
DTSTART:20221106T060000
END:STANDARD
BEGIN:DAYLIGHT
TZOFFSETFROM:-0500
TZOFFSETTO:-0400
TZNAME:EDT
DTSTART:20230312T070000
END:DAYLIGHT
BEGIN:STANDARD
TZOFFSETFROM:-0400
TZOFFSETTO:-0500
TZNAME:EST
DTSTART:20231105T060000
END:STANDARD
END:VTIMEZONE
BEGIN:VEVENT
DTSTART;TZID=America/New_York:20220519T110000
DTEND;TZID=America/New_York:20220519T130000
DTSTAMP:20260420T073754
CREATED:20220221T221313Z
LAST-MODIFIED:20220405T202240Z
UID:10000196-1652958000-1652965200@aaccwp.com
SUMMARY:Annual Meeting and Luncheon
DESCRIPTION:The Board of Directors cordially invites you to attend the virtual \n  \nAnnual Members’ Meeting and Luncheon \nFriday\, May 19\, 2021 \nMembers Meeting: 11:00am – 11:45am\n \nLuncheon: 12:00noon – 1:30pm \n  \nSpeaker: \nKevin E. Walker\, President and CEO \nDuquesne Light Company\n \n  \n  \n 
URL:https://aaccwp.com/event/annual-meeting-and-luncheon-save-the-date/
LOCATION:Omni William Penn Hotel\, 530 William Penn Pl.\, Pittsburgh\, PA\, 15219\, United States
CATEGORIES:Business Luncheon
GEO:40.4405948;-79.9965989
X-APPLE-STRUCTURED-LOCATION;VALUE=URI;X-ADDRESS=Omni William Penn Hotel 530 William Penn Pl. Pittsburgh PA 15219 United States;X-APPLE-RADIUS=500;X-TITLE=530 William Penn Pl.:geo:-79.9965989,40.4405948
END:VEVENT
END:VCALENDAR